BEGIN:VCALENDAR
VERSION:2.0
PRODID:-//https://www.faithvictoria.org.au///NONSGML kigkonsult.se iCalcreator 2.10.15//
METHOD:PUBLISH
BEGIN:VEVENT
UID:20260420T070312UTC-9244iRKtjE@https://www.faithvictoria.org.au/
DTSTAMP:20260420T070312Z
DESCRIPTION:Australian Religious Response to Climate Change (ARRCC) invites
  you to:\nAligning your Finances with your faith to Protect the Planet\nDa
 tes: Thursday 10 and Friday 11 November 2022&nbsp\; &nbsp\;Time: 7:30pm to
  9pmLocation: Online (please register to receive link)\nDo you know if you
 r bank is fueling global warming by funding coal\, oil &amp\; gas projects
 ?\nCome share\, learn &amp\; discuss what actions you could take with an e
 ngaging multi faith group\nThe interactive 90 minutes Zoom sessions are ru
 n by Australian Religious Response to Climate Change () Divestment Working
  Group.\nRecent participants said:\n“I was not aware which banks were fund
 ing fossil fuel companies”\n“How filthy the banks are &amp\; the huge amou
 nts they lend to fossil fuels”\nRegister on Trybooking to get the zoom lin
 k&nbsp\;for either of these sessions.\nBanking is one session in our ARRCC
  series. Other sessions cover other aspects of finance such as Superannuat
 ion\, Energy utilities\, Insurance\, and Shareholder actions. See upcoming
  events section at the ARRCC website. https://www.faithvictoria.org.au/upc
 oming-events/event/1907-aligning-your-finances-with-your-faith-to-protect-
 the-planet-australian-religious-response-to-climate-change
DTSTART:20221111T193000Z
DTEND:20221111T210000Z
LOCATION:Melbourne VIC 3000 (Melbourne VIC\, Australia)
SUMMARY:Aligning your Finances with your faith to Protect the Planet: Austr
 alian Religious Response to Climate Change
URL:https://www.faithvictoria.org.au/upcoming-events/event/1907-aligning-yo
 ur-finances-with-your-faith-to-protect-the-planet-australian-religious-res
 ponse-to-climate-change
END:VEVENT
END:VCALENDAR
