BEGIN:VCALENDAR
VERSION:2.0
PRODID:-//https://www.faithvictoria.org.au///NONSGML kigkonsult.se iCalcreator 2.10.15//
METHOD:PUBLISH
BEGIN:VEVENT
UID:20260422T115422UTC-0245xFJ7bg@https://www.faithvictoria.org.au/
DTSTAMP:20260422T115422Z
DESCRIPTION:Monash Interfaith Gathering invites you to:\nGender Equality an
 d Respectful Relationships\nDate: Monday 14 November 2022&nbsp\; &nbsp\;&n
 bsp\;Time: 7pmLocation:&nbsp\;Online via Zoom\nDuring White Ribbon Week\, 
 Monash Interfaith Gathering will be holding a special meeting dedicated to
  raising awareness of Gender Equality/Respectful Relationships.\nInternati
 onal speaker Heather Yelland will deliver a speech on Gender Equality/Resp
 ectful Relationships.\nHeather is the Founder and Director of The Elevatio
 n Company has been a ‘people’s specialist’ for over 30 years is a leading 
 authority in Values Based Leadership and is a respected voice in the inter
 national arena.\nBookings are essential | Click here to register https://w
 ww.faithvictoria.org.au/upcoming-events/event/1916-gender-equality-and-res
 pectful-relationships-monash-interfaith-gathering
DTSTART:20221114T190000Z
DTEND:20221114T210000Z
LOCATION:Melbourne VIC 3000 (Melbourne VIC\, Australia)
SUMMARY:Gender Equality and Respectful Relationships: Monash Interfaith Gat
 hering
URL:https://www.faithvictoria.org.au/upcoming-events/event/1916-gender-equa
 lity-and-respectful-relationships-monash-interfaith-gathering
END:VEVENT
END:VCALENDAR
