BEGIN:VCALENDAR
VERSION:2.0
PRODID:-//https://www.faithvictoria.org.au///NONSGML kigkonsult.se iCalcreator 2.10.15//
METHOD:PUBLISH
BEGIN:VEVENT
UID:20260420T012043UTC-8285zxsXma@https://www.faithvictoria.org.au/
DTSTAMP:20260420T012043Z
DESCRIPTION:'Talking Faith?' aims to build interfaith bridges of trust\, un
 derstanding and friendship through dialogue.\nLast year a 'Talking Faith?'
  forum was held featuring all faiths that are a  part of the Interfaith Ne
 twork. This year\, the 'Talking Faith?' forum  begins focusing on one of t
 he faiths that is a part of the Interfaith  Network – Islam.  Another fait
 h will be featured at the next 'Talking  Faith?' forum and so on until\, i
 t is hoped\, all faiths will have been  featured in these series of forums
 .\nVarious representatives from the Islamic Community will answer question
 s  on faith that people have placed in boxes in the Libraries  of the City
   of Greater Dandenong.\nDate: Thursday\, 17th of November   Time: 6.45pm 
 - 8pm.\nThis forum is being organised by the Interfaith Network together w
 ith the City of Greater Dandenong Libraries.\nSeating is limited so book n
 ow on 1300 630 920\, in person or at www.greaterdandenonglibraries.com\nCL
 ICK HERE TO VIEW FLYERContact Detailsbook now on 1300 630 920\, in person 
 or at www.greaterdandenonglibraries.com https://www.faithvictoria.org.au/u
 pcoming-events/event/315-talking-faith
DTSTART:20111117T174500Z
DTEND:20111117T190000Z
LOCATION:Dandenong Library\, Sturt Street\, Dandenong (Dandenong Library\, 
 Sturt Street\, Dandenong)
SUMMARY:Talking Faith?
URL:https://www.faithvictoria.org.au/upcoming-events/event/315-talking-fait
 h
END:VEVENT
END:VCALENDAR
