BEGIN:VCALENDAR
VERSION:2.0
PRODID:-//https://www.faithvictoria.org.au///NONSGML kigkonsult.se iCalcreator 2.10.15//
METHOD:PUBLISH
BEGIN:VEVENT
UID:20260421T211651UTC-6615SZHfRP@https://www.faithvictoria.org.au/
DTSTAMP:20260421T211651Z
DESCRIPTION:The Jewish Christian Muslim Association of Australia Inc invite
 s you to:\nIntercultural Understanding | Annual General Meeting 2021\nDate
 : Wednesday 17 November 2021&nbsp\; &nbsp\; &nbsp\; Time: 6:30pm to 8pmLoc
 ation: Online (Zoom link will be sent on registration)\nKeynote speaker:&n
 bsp\; Dr Ian Grant\, the Education Project Officer on the ICUP (Intercultu
 ral Understanding Partnership) Schools Program at JCMA. Ian will share how
  his life experiences shaped his understanding of intercultural engagement
 \, lessons learned and rewards along the way.\nMore about the speaker:&nbs
 p\;Ian has a PhD from Monash University drawing from the disciplines of cu
 ltural anthropology and sociology to examine the development of indigenous
  leadership amongst the Enga people of Papua New Guinea. Along with Ian’s 
 childhood as a ‘Third Culture Kid’ in Vanuatu\, and lifelong immersion in 
 various cultural contexts and languages shaped Ian’s approach to intercult
 ural education. He has been a part of a range of educational programs over
  the last 40 years and at JCMA on the ICUP grant program.\nTo register\, p
 lease click here.&nbsp\;\nAll those who register will be emailed further d
 etails and Zoom link nearer the time of the event. We look forward to your
  participation.\nFor further information contact Lorraine Lipson: 0419 687
  593 |&nbsp\;secretary@jcma.org.au or Ginette on Mobile 0400 211 221. http
 s://www.faithvictoria.org.au/upcoming-events/event/1826-annual-general-mee
 ting-2021-jewish-christian-muslim-association-of-australia-inc
DTSTART:20211117T183000Z
DTEND:20211117T200000Z
LOCATION:Melbourne VIC 3000 (Melbourne VIC\, Australia)
SUMMARY:Annual General Meeting 2021: Jewish Christian Muslim Association of
  Australia Inc
URL:https://www.faithvictoria.org.au/upcoming-events/event/1826-annual-gene
 ral-meeting-2021-jewish-christian-muslim-association-of-australia-inc
END:VEVENT
END:VCALENDAR
