BEGIN:VCALENDAR
VERSION:2.0
PRODID:-//https://www.faithvictoria.org.au///NONSGML kigkonsult.se iCalcreator 2.10.15//
METHOD:PUBLISH
BEGIN:VEVENT
UID:20260421T225938UTC-5413E8Z1Z5@https://www.faithvictoria.org.au/
DTSTAMP:20260421T225938Z
DESCRIPTION:Monash Interfaith Gathering invites you to:\nDomestic Violence\
 , Silence is Not the Answer |&nbsp\;Violence Against Women\, what is it an
 d what does it take to stop and eliminate this scourge from our society?\n
 Date: Thursday 18 November 2021&nbsp\; &nbsp\; &nbsp\;Time: 7pm to 8:30pmL
 ocation: Online event (to register\, please click here)\nYou are invited t
 o&nbsp\;attend our virtual forum as part of Monash City Council’s “16 Days
  of Soul Searching to turn the tide on Domestic Violence”.\nKeynote Speake
 r: Ms. Manpreet Kaur Singh\, Award Winning SBS JournalistFollowed by Ruby 
 Lampard\, Development Officer Kara House\nEvent will be online&nbsp\; - de
 tails will come once you've booked https://www.faithvictoria.org.au/upcomi
 ng-events/event/1825-domestic-violence-silence-is-not-the-answer-monash-in
 terfaith-gathering
DTSTART:20211118T190000Z
DTEND:20211118T203000Z
LOCATION:Melbourne VIC 3000 (Melbourne VIC\, Australia)
SUMMARY:Domestic Violence\, Silence is Not the Answer: Monash Interfaith Ga
 thering
URL:https://www.faithvictoria.org.au/upcoming-events/event/1825-domestic-vi
 olence-silence-is-not-the-answer-monash-interfaith-gathering
END:VEVENT
END:VCALENDAR
