BEGIN:VCALENDAR
VERSION:2.0
PRODID:-//https://www.faithvictoria.org.au///NONSGML kigkonsult.se iCalcreator 2.10.15//
METHOD:PUBLISH
BEGIN:VEVENT
UID:20260422T004459UTC-8907lsktIO@https://www.faithvictoria.org.au/
DTSTAMP:20260422T004459Z
DESCRIPTION:Birth of Guru Nanak Dev Sahib Ji\nFriday&nbsp\;19 November&nbsp
 \;2021Faith: Sikhism\nObserves the birth of Guru Sri Guru Nanak Dev Sahib\
 , the founder of the Sikh religion\, born in 1469 CE. An accomplished poet
 \, 974 of his hymns are part of the Guru Granth Sahib. https://www.faithvi
 ctoria.org.au/upcoming-events/event/1473-birth-of-guru-nanak-dev-sahib-ji-
 sikhism
DTSTART;VALUE=DATE:20211119
LOCATION:RSEvents!Pro Location (Colorado\, USA)
SUMMARY:Birth of Guru Nanak Dev Sahib Ji | Sikhism 	
URL:https://www.faithvictoria.org.au/upcoming-events/event/1473-birth-of-gu
 ru-nanak-dev-sahib-ji-sikhism
END:VEVENT
END:VCALENDAR
