BEGIN:VCALENDAR
VERSION:2.0
PRODID:-//https://www.faithvictoria.org.au///NONSGML kigkonsult.se iCalcreator 2.10.15//
METHOD:PUBLISH
BEGIN:VEVENT
UID:20260419T194153UTC-8800JFIkPR@https://www.faithvictoria.org.au/
DTSTAMP:20260419T194153Z
DESCRIPTION: \nRoad Trauma Support Services warmly invites you\, your famil
 y and friends to the:\n11th Annual Time for Remembering  to those who have
  died\, to those that have been injured\, and the impact on our community 
 of Road Trauma\nThis multi-faith event has been organised annually since 2
 001\, and coincides with World Remembrance Day for Road Crash Victims\, th
 ird Sunday of November.\nYou are invited to bring a small framed photo of 
 your loved one or other symbol of remembrance.\nCLICK HERE TO VIEW FLYER\n
  Contact DetailsTo RSVP and for further information please contact 8877690
 0 or katrina.wilkins@rtssv.org.au https://www.faithvictoria.org.au/upcomin
 g-events/event/50-time-for-remembering
DTSTART:20111120T110000Z
DTEND:20111120T140000Z
LOCATION:Queen's Hall - Parliament House\, Melbourne (Mel 2F K2) (Queen's H
 all - Parliament House\, Melbourne (Mel 2F K2))
SUMMARY:Time for Remembering
URL:https://www.faithvictoria.org.au/upcoming-events/event/50-time-for-reme
 mbering
END:VEVENT
BEGIN:VEVENT
UID:20260419T194153UTC-88050AaAfv@https://www.faithvictoria.org.au/
DTSTAMP:20260419T194153Z
DESCRIPTION: \nThe Victorian Shared Values Symposium 2011: What is Truth?\n
 Date: Sunday 20th November   Time: 1.00-3.30 pm\nLocation: Highton Manor 1
 40 Highton Lane Mansfield Vic. 3722\nA panel of speakers presents Buddhist
 \, Christian\, Jewish\, Aboriginal\, Muslim and Hindu teachings\, with pub
 lic input.  Moderator: Dr Nicholas Coleman.\nWebsite: www.victoriansharedv
 alues.net.au\n Contact DetailsMarta Balan: balan609@gmail.com https://www.
 faithvictoria.org.au/upcoming-events/event/342-the-victorian-shared-values
 -symposium-2011
DTSTART:20111120T120000Z
DTEND:20111120T143000Z
LOCATION:Highton Manor 140 Highton Lane Mansfield Vic. 3722 (Highton Manor 
 140 Highton Lane Mansfield Vic. 3722)
SUMMARY:The Victorian Shared Values Symposium 2011
URL:https://www.faithvictoria.org.au/upcoming-events/event/342-the-victoria
 n-shared-values-symposium-2011
END:VEVENT
END:VCALENDAR
