BEGIN:VCALENDAR
VERSION:2.0
PRODID:-//https://www.faithvictoria.org.au///NONSGML kigkonsult.se iCalcreator 2.10.15//
METHOD:PUBLISH
BEGIN:VEVENT
UID:20260422T041356UTC-6204ADBVnH@https://www.faithvictoria.org.au/
DTSTAMP:20260422T041356Z
DESCRIPTION:Maroondah Interfaith Network invites you to:\nCompassion - Semi
 nar Series 2021\nDate: Sunday 21 November 2021&nbsp\; &nbsp\; &nbsp\;Time:
  3pmLocation:&nbsp\;Online (please click here to join)\nCompassion lies at
  the heart of most religions and is the foundation for family and society.
  Yet\, each religion understands and expresses compassion in its own way. 
 These seminars are opportunities for discussion between the various religi
 ons so that we can understand each other better and work with each other m
 ore effectively. Seminar will start with a short meditation.\nRev Lucas Ta
 ylor\, the minister of Ringwood Uniting Church\, will discuss the Uniting 
 Church emphases on compassion and social justice. Other speakers from the 
 church will talk about specific projects.&nbsp\;\nFollowing our seminar\, 
 we will be holding our AGM. You are welcome to stay on line for that\, but
  feel free to leave if you wish. It will not be a long meeting. We will re
 ceive the chair's and treasurer's reports\, and conduct elections\, as nec
 essary\, to fill the positions of chair\, deputy chair\, and secretary/tre
 asurer.\nWe anticipate that this series will continue in 2022\, and will c
 limax with an Interfaith Cafe on Sunday 20 March 2022.&nbsp\;\nAll seminar
 s are free.\nRegistration is encouraged. Please click here for registratio
 n.&nbsp\;\n&nbsp\; https://www.faithvictoria.org.au/upcoming-events/event/
 1805-seminar-5-compassion-seminar-series-2021-maroondah-interfaith-network
DTSTART:20211121T150000Z
DTEND:20211121T170000Z
LOCATION:Janssen Spirituality Centre\, 22 Woodvale Road\, Boronia VIC 3155 
 (22 Woodvale Rd\, Boronia VIC 3155\, Australia)
SUMMARY:Seminar 5 Compassion Seminar Series 2021: Maroondah Interfaith Netw
 ork
URL:https://www.faithvictoria.org.au/upcoming-events/event/1805-seminar-5-c
 ompassion-seminar-series-2021-maroondah-interfaith-network
END:VEVENT
END:VCALENDAR
