BEGIN:VCALENDAR
VERSION:2.0
PRODID:-//https://www.faithvictoria.org.au///NONSGML kigkonsult.se iCalcreator 2.10.15//
METHOD:PUBLISH
BEGIN:VEVENT
UID:20260419T230154UTC-9257lZ1Suu@https://www.faithvictoria.org.au/
DTSTAMP:20260419T230154Z
DESCRIPTION: \nYour invitation to attend the Annual General Meeting of:The 
 Jewish Christian Muslim Association of Australia Inc.\nTime: 6:45pm (for 7
 pm)\nDate: Thursday 24th of November\, 2011 \nLocation: West Heidelberg Mo
 sque Corner of Lloyd and Elliott Streets\, West Heidelberg(entrance from L
 loyd Street\, parking in the rear and on the street)\nGuest Speaker: Mr Ch
 in TanChairperson of the Victorian Multicultural Commission\nWelcome by Mr
  Hyder GulamPresident of the Islamic Council of Victoria\nLight Supper (Ko
 sher and Halal)\nCLICK HERE TO VIEW FLYERContact DetailsFurther details an
 d RSVP: 03 9650 3294 or http://jcmaagm2011.eventbrite.com https://www.fait
 hvictoria.org.au/upcoming-events/event/354-jcma-annual-general-meeting
DTSTART:20111124T174500Z
DTEND:20111124T140000Z
LOCATION:West Heidelberg Mosque - Corner of Lloyd and Elliott Streets\, Wes
 t Heidelberg (West Heidelberg Mosque - Corner of Lloyd and Elliott Streets
 \, West Heidelberg)
SUMMARY:JCMA - Annual General Meeting
URL:https://www.faithvictoria.org.au/upcoming-events/event/354-jcma-annual-
 general-meeting
END:VEVENT
END:VCALENDAR
