BEGIN:VCALENDAR
VERSION:2.0
PRODID:-//https://www.faithvictoria.org.au///NONSGML kigkonsult.se iCalcreator 2.10.15//
METHOD:PUBLISH
BEGIN:VEVENT
UID:20260420T004333UTC-8753gCr07f@https://www.faithvictoria.org.au/
DTSTAMP:20260420T004333Z
DESCRIPTION:Casey Multi-faith Network would like to invite you to a White R
 ibbon Day LADIES ONLY Luncheon. It will be an excellent opportunity to mee
 t and network with a diverse group of women from Casey.\nEntertainment: Ca
 sey Choir \nFundraising for Literacy: Judy Wardale\nGuest Speaker: Mahasuk
 kar  - Senior Constable (Southern Metro Multicultural Liaison Unit\, Victo
 ria Police)\nGroup discussion: Respect For Mother\nDate: Friday 25th Novem
 ber 2011    Time: 10:45am to 2:30pmLocation: Akoonah Park\, cnr Princes Hi
 ghway and Cardinia St.\, Berwick\, 3806(Entry via Service Road) - Melways 
 Reference: 111 B7\nRSVP: Friday 18th November 2011 - Pam 9707 2077 or emai
 l: cmfn09@yahoo.com\nPlease book early as space is limited (Cost: free)\nV
 egetarian and Halal Options Available\nCLICK HERE TO VIEW FLYER\n  https:/
 /www.faithvictoria.org.au/upcoming-events/event/49-white-ribbon-day-lunche
 on
DTSTART:20111125T094500Z
DTEND:20111125T133000Z
LOCATION:JEvents ()
SUMMARY:White Ribbon Day Luncheon
URL:https://www.faithvictoria.org.au/upcoming-events/event/49-white-ribbon-
 day-luncheon
END:VEVENT
END:VCALENDAR
