BEGIN:VCALENDAR
VERSION:2.0
PRODID:-//https://www.faithvictoria.org.au///NONSGML kigkonsult.se iCalcreator 2.10.15//
METHOD:PUBLISH
BEGIN:VEVENT
UID:20260422T221521UTC-5657UK3pcH@https://www.faithvictoria.org.au/
DTSTAMP:20260422T221521Z
DESCRIPTION:You are invited to you:\nChanukah: Pillars of Light\nDate: Sund
 ay 28 November to Sunday 5 December 2021&nbsp\; &nbsp\; &nbsp\; &nbsp\; Ti
 me: 6pm to late (daily)Location: Main Square\, Federation Square\, Melbour
 ne VIc 3000\nA little bit of light can dispel a lot of darkness.\nPillars 
 of Light\, in celebration of Chanukah\, is providing Melbournians with an 
 opportunity to come together over a multicultural celebration\, focusing o
 n what unites us as a city.\nEach evening features a bespoke program highl
 ighting the core precepts of connection and collaboration through guest sp
 eakers\, dignitaries\, artistic performers\, cultural groups\, sports peop
 le and more\, who’ll be invited to light the menorah\, bringing together o
 ur varied communities through hope\, positivity\, love and light.\nLiveNat
 ion\, Australia’s premier music promoters\, have partnered with Pillars of
  Light to source local and known multicultural\, faith and Indigenous arti
 sts that will perform during the festival.\nTo join book your tickets now 
 for a phenomenal display of multiculturalism and diversity in the heart of
  Melbourne’s CBD at Fed Square.\nPlease click here for the Program.\nPleas
 e click here to book.&nbsp\; https://www.faithvictoria.org.au/upcoming-eve
 nts/event/1829-chanukah-pillars-of-light
DTSTART:20211128T180000Z
DTEND:20211205T220000Z
LOCATION:Federation Square\, Melbourne VIC 3000 (Swanston St & Flinders St\
 , Melbourne VIC 3000\, Australia)
SUMMARY:Chanukah: Pillars of Light
URL:https://www.faithvictoria.org.au/upcoming-events/event/1829-chanukah-pi
 llars-of-light
END:VEVENT
END:VCALENDAR
