BEGIN:VCALENDAR
VERSION:2.0
PRODID:-//https://www.faithvictoria.org.au///NONSGML kigkonsult.se iCalcreator 2.10.15//
METHOD:PUBLISH
BEGIN:VEVENT
UID:20260424T142825UTC-29023PF8bv@https://www.faithvictoria.org.au/
DTSTAMP:20260424T142825Z
DESCRIPTION:Darebin Interfaith Council and Hume Interfaith Network invite y
 ou to:\nStand Together\, Safe and Equal: Interfaith Webinar\nDate: Thursda
 y 3 December 2020&nbsp\; &nbsp\; &nbsp\; Time: 5:30pm to 7pmLocation: Onli
 ne\; click here to register\nJoin members of the Darebin Interfaith Counci
 l and Hume Interfaith Network at this FREE webinar to raise awareness abou
 t the importance of gender equity in promoting healthy relationships and s
 afety for women and children in faith communities.\nYou will hear from peo
 ple with a range of experiences in this field:\n\nAnu Krishnan\, a special
 ist family violence practitioner with a focus on building awareness\, lead
 ership and knowledge within multicultural communities to reduce violence a
 nd inequality.\nLinda Yang\, a counsellor and a member of the Preston Mosq
 ue Family Violence Working Group. Linda is an educator who specialises in 
 the field of family and domestic violence and contributes to team training
 .\nInspector Tom Ebinger\, Victoria Police - Darebin Local Area Commander.
 \n\nThere will be opportunity for questions and discussion after the panel
  of speakers. Registration is encouraged.\nContact:\n\nHume City Council: 
 Elizabeth on 0477 755 735 or email ElizabethSh@hume.vic.gov.au.\nCity of D
 arebin: Celia Chang on 0421 658 571 or email celia.chang@darebin.vic.gov.a
 u.\n https://www.faithvictoria.org.au/upcoming-events/event/1740-stand-tog
 ether-safe-and-equal-darebin-interfaith-council-and-hume-interfaith-networ
 k
DTSTART:20201203T173000Z
DTEND:20201203T190000Z
LOCATION:Melbourne VIC 3000 (Melbourne VIC\, Australia)
SUMMARY:Stand Together\, Safe and Equal: Darebin Interfaith Council and Hum
 e Interfaith Network
URL:https://www.faithvictoria.org.au/upcoming-events/event/1740-stand-toget
 her-safe-and-equal-darebin-interfaith-council-and-hume-interfaith-network
END:VEVENT
END:VCALENDAR
