BEGIN:VCALENDAR
VERSION:2.0
PRODID:-//https://www.faithvictoria.org.au///NONSGML kigkonsult.se iCalcreator 2.10.15//
METHOD:PUBLISH
BEGIN:VEVENT
UID:20260423T032100UTC-6665CCdFIU@https://www.faithvictoria.org.au/
DTSTAMP:20260423T032100Z
DESCRIPTION:The Jewish Community Council of Victoria and First Nations Reco
 nciliation Program invite you to:\nWalking together | Jewish Community sta
 nds with First Nations\nDate: Friday 5 December 2021&nbsp\; &nbsp\; &nbsp\
 ;Time: 5pmLocation:&nbsp\;Federation Square\, Melbourne VIC 3000\nJCCV inv
 ites you to a very special Chanukah event. Join us to celebrate the Eighth
  night of Chanukah\, with a smoking ceremony and the lighting of the ArkCe
 ntre's 'Pillars of Light' Grand Menorah.&nbsp\;\nGet active and Walk Toget
 her in support of the wishes of the First Nations community to establish a
  Voice to Parliament as called for by the Uluru Statement from the Heart. 
 JCCV\, B'nai B'rith Victoria\, together with other Jewish organisations\, 
 are coordinating a number of community walks leading to the Fed Square\, E
 ighth Night\, Chanukah celebrations.&nbsp\;\nSave the date. More informati
 on to follow.&nbsp\;\nEvent subject to covid regulations.&nbsp\;\nJCCV ack
 nowledges the traditional owners of country throughout Australia and their
  continuing connection to land and community. We pay our respect to them a
 nd their cultures\, and to the Elders\, past\, present and emerging.&nbsp\
 ; https://www.faithvictoria.org.au/upcoming-events/event/1824-walking-toge
 ther-jewish-community-stands-with-first-nations
DTSTART:20211205T170000Z
DTEND:20211205T190000Z
LOCATION:Federation Square\, Melbourne VIC 3000 (Swanston St & Flinders St\
 , Melbourne VIC 3000\, Australia)
SUMMARY:Walking together - Jewish Community stands with First Nations
URL:https://www.faithvictoria.org.au/upcoming-events/event/1824-walking-tog
 ether-jewish-community-stands-with-first-nations
END:VEVENT
BEGIN:VEVENT
UID:20260423T032100UTC-66867v8Ivh@https://www.faithvictoria.org.au/
DTSTAMP:20260423T032100Z
DESCRIPTION:The Council of Christians and Jews Vic (Inc) invites you to:\nL
 anch of Gesher 2021: Hope Beyond Wishing\nDate: Sunday 5 December 2021&nbs
 p\; &nbsp\; &nbsp\; Time: 2:15pm for 3pm to 4pmLocation: Armagh\, 226 Kooy
 ong Road\, Toorak VIC 3142\n\nArnold Zable - Award-winning writer\, storyt
 eller\, educator and human rights advocate\nUncle Shane Charles - Indigeno
 us elder and digeridoo player\nRev Dr Merryl Blair OAM - Christian educato
 r and writer\nAnd a musical performance by Digby Hannah - Musician\, pasto
 r and educator\n\nCost: $10 entry\, includes Kosher refreshments and a cop
 y of Gesher 2021 | For booking\, click here.&nbsp\;\nCOVID-safe protocols 
 apply. All attendees must register in advance and must&nbsp\;show a copy o
 f their vaccination certificate https://www.faithvictoria.org.au/upcoming-
 events/event/1828-launch-of-gesher-2021-council-of-christians-and-jews-vic
DTSTART:20211205T150000Z
DTEND:20211205T170000Z
LOCATION:Armagh\, 226 Kooyong Road Toorak VIC 3142 (226 Kooyong Rd\, Toorak
  VIC 3142\, Australia)
SUMMARY:Launch of Gesher 2021: Council of Christians and Jews (Vic)
URL:https://www.faithvictoria.org.au/upcoming-events/event/1828-launch-of-g
 esher-2021-council-of-christians-and-jews-vic
END:VEVENT
BEGIN:VEVENT
UID:20260423T032100UTC-6701VGu53a@https://www.faithvictoria.org.au/
DTSTAMP:20260423T032100Z
DESCRIPTION:You are invited to you:\nChanukah: Pillars of Light\nDate: Sund
 ay 28 November to Sunday 5 December 2021&nbsp\; &nbsp\; &nbsp\; &nbsp\; Ti
 me: 6pm to late (daily)Location: Main Square\, Federation Square\, Melbour
 ne VIc 3000\nA little bit of light can dispel a lot of darkness.\nPillars 
 of Light\, in celebration of Chanukah\, is providing Melbournians with an 
 opportunity to come together over a multicultural celebration\, focusing o
 n what unites us as a city.\nEach evening features a bespoke program highl
 ighting the core precepts of connection and collaboration through guest sp
 eakers\, dignitaries\, artistic performers\, cultural groups\, sports peop
 le and more\, who’ll be invited to light the menorah\, bringing together o
 ur varied communities through hope\, positivity\, love and light.\nLiveNat
 ion\, Australia’s premier music promoters\, have partnered with Pillars of
  Light to source local and known multicultural\, faith and Indigenous arti
 sts that will perform during the festival.\nTo join book your tickets now 
 for a phenomenal display of multiculturalism and diversity in the heart of
  Melbourne’s CBD at Fed Square.\nPlease click here for the Program.\nPleas
 e click here to book.&nbsp\; https://www.faithvictoria.org.au/upcoming-eve
 nts/event/1829-chanukah-pillars-of-light
DTSTART:20211128T180000Z
DTEND:20211205T220000Z
LOCATION:Federation Square\, Melbourne VIC 3000 (Swanston St & Flinders St\
 , Melbourne VIC 3000\, Australia)
SUMMARY:Chanukah: Pillars of Light
URL:https://www.faithvictoria.org.au/upcoming-events/event/1829-chanukah-pi
 llars-of-light
END:VEVENT
END:VCALENDAR
