BEGIN:VCALENDAR
VERSION:2.0
PRODID:-//https://www.faithvictoria.org.au///NONSGML kigkonsult.se iCalcreator 2.10.15//
METHOD:PUBLISH
BEGIN:VEVENT
UID:20260421T211707UTC-34937Ob1Ls@https://www.faithvictoria.org.au/
DTSTAMP:20260421T211707Z
DESCRIPTION:AdventBegins: Sunday 27 November 2022Ends: Saturday 24 December
  2022Religion: Christianity\nAdvent is the period leading up to Christmas.
  It begins on the fourth Sunday before Christmas (Advent Sunday) and conti
 nues through to December 24th (Christmas Eve). In Western churches\, Adven
 t Sunday marks the beginning of the Christian liturgical year. https://www
 .faithvictoria.org.au/upcoming-events/event/1294-advent-christianity
DTSTART:20221127T000000Z
DTEND:20221224T140824Z
LOCATION:RSEvents!Pro Location (Colorado\, USA)
SUMMARY:Advent (Christianity)
URL:https://www.faithvictoria.org.au/upcoming-events/event/1294-advent-chri
 stianity
END:VEVENT
BEGIN:VEVENT
UID:20260421T211707UTC-3500zzXhNU@https://www.faithvictoria.org.au/
DTSTAMP:20260421T211707Z
DESCRIPTION:Youth for Human Rights Australia invites you to:\nInternational
  Human Rights Day Event\nDate: Sunday 11 December 2022&nbsp\; &nbsp\; &nbs
 p\;Time: 11:30am to 3pmLocation:&nbsp\;Scientology Community Centre\, 231 
 Mt Alexander Rd\, Ascot Vale\nGuest: Julian Burnside AO\, QC\nBookings ess
 ential | RSVP info@yhr-ausralia.org&nbsp\;Connie Curato at Youth for Human
  rights Australia\nFree lunch provided | Please advise of any dietary requ
 irements.\nSupported by Moonee Valley Interfaith Network https://www.faith
 victoria.org.au/upcoming-events/event/1918-international-human-rights-day-
 event
DTSTART:20221211T113000Z
DTEND:20221211T150000Z
LOCATION:Scientology Community Centre\, 231 Mount Alexander Rd\, Ascot Vale
  VIC 3032 (231 Mt Alexander Rd\, Ascot Vale VIC 3032\, Australia)
SUMMARY:International Human Rights Day Event
URL:https://www.faithvictoria.org.au/upcoming-events/event/1918-internation
 al-human-rights-day-event
END:VEVENT
BEGIN:VEVENT
UID:20260421T211707UTC-3506UtBPuL@https://www.faithvictoria.org.au/
DTSTAMP:20260421T211707Z
DESCRIPTION:The Council of Christians and Jews Vic (Inc) invite you to:\nTh
 e Launch of Gesher 2022\nDate: Sunday 11 December 2022&nbsp\; &nbsp\; &nbs
 p\;Time: 3pmLocation: TBC\nSpeaker: The Revd Canon Dr Robert (Bob) Derrenb
 acker\nMore details to come soon https://www.faithvictoria.org.au/upcoming
 -events/event/1925-the-launch-of-gesher-2022-the-council-of-christians-and
 -jews-vic-inc
DTSTART:20221211T150000Z
DTEND:20221211T170000Z
LOCATION:Melbourne VIC 3000 (Melbourne VIC\, Australia)
SUMMARY:The Launch of Gesher 2022: The Council of Christians and Jews Vic (
 Inc)
URL:https://www.faithvictoria.org.au/upcoming-events/event/1925-the-launch-
 of-gesher-2022-the-council-of-christians-and-jews-vic-inc
END:VEVENT
BEGIN:VEVENT
UID:20260421T211707UTC-3512dMVWD5@https://www.faithvictoria.org.au/
DTSTAMP:20260421T211707Z
DESCRIPTION:Moonee Valley Interfaith Network\, along with Eritrean Jeberti 
 Community in Australia and Somali Community Inc\, invite you to:\nInternat
 ional Human Rights Day event\nDate: Sunday 11 December 2022&nbsp\; &nbsp\;
  &nbsp\;Time: 11:30am to 3pmLocation:&nbsp\;Scientology Community Centre\,
  231 Mount Alexander Rd\, Ascot Vale VIC 3032\nGues speaker: Julian Burnsi
 de AO\, QC\nBookings essential RSVP: Connie Curato info@yhr-australia.org&
 nbsp\;\nLunch will be provided. Please advise of any dietary requirements 
 https://www.faithvictoria.org.au/upcoming-events/event/1927-international-
 human-rights-day-moonee-valley-interfaith-network
DTSTART:20221211T113000Z
DTEND:20221211T150000Z
LOCATION:Scientology Community Centre\, 231 Mount Alexander Rd\, Ascot Vale
  VIC 3032 (231 Mt Alexander Rd\, Ascot Vale VIC 3032\, Australia)
SUMMARY:International Human Rights Day: Moonee Valley Interfaith Network
URL:https://www.faithvictoria.org.au/upcoming-events/event/1927-internation
 al-human-rights-day-moonee-valley-interfaith-network
END:VEVENT
END:VCALENDAR
