BEGIN:VCALENDAR
VERSION:2.0
PRODID:-//https://www.faithvictoria.org.au///NONSGML kigkonsult.se iCalcreator 2.10.15//
METHOD:PUBLISH
BEGIN:VEVENT
UID:20260424T141125UTC-8789EaX3E5@https://www.faithvictoria.org.au/
DTSTAMP:20260424T141125Z
DESCRIPTION:The Interfaith Centre of Melbourne invites you to:\nSpectrum of
  Enlightenment | How a little light can dispel much darkness: the lights o
 f ChannukaInterspiritual Gathering\nDate: Sunday 13 December 2020&nbsp\; &
 nbsp\; &nbsp\; Time: 6pm to 6:45pmLocation: Online event | Registration re
 quired\nWe invite you to our inclusive Interspiritual Gathering online\, f
 or prayer\, music\, poetry\, and the wisdom of the great traditions.\nGues
 t Speaker: Rabbi Laibl Wolf | Dean\, Spiritgrow - The Josef Kryss Centre\n
 Free online event https://www.faithvictoria.org.au/upcoming-events/event/1
 747-interspiritual-gathering
DTSTART:20201213T180000Z
DTEND:20201213T184500Z
LOCATION:Melbourne VIC 3000 (Melbourne VIC\, Australia)
SUMMARY:Interspiritual Gathering
URL:https://www.faithvictoria.org.au/upcoming-events/event/1747-interspirit
 ual-gathering
END:VEVENT
END:VCALENDAR
