BEGIN:VCALENDAR
VERSION:2.0
PRODID:-//https://www.faithvictoria.org.au///NONSGML kigkonsult.se iCalcreator 2.10.15//
METHOD:PUBLISH
BEGIN:VEVENT
UID:20260424T225958UTC-8622fvzLz2@https://www.faithvictoria.org.au/
DTSTAMP:20260424T225958Z
DESCRIPTION:Christmas\, originally Feast of the Nativity\, is a holiday to 
 commemorate the birth of Jesus.The date is not known to be the actual birt
 hday of Jesus\, and may have initially been chosen to correspond with eith
 er the day exactly nine months after some early Christians believed Jesus 
 had been conceived\, the date of the winter solstice on the ancient Roman 
 calendar\, or one of various ancient winter festivals. Christmas is centra
 l to the Christmas and holiday season\, and in Christianity marks the begi
 nning of the larger season of Christmastide\, which lasts twelve days. htt
 ps://www.faithvictoria.org.au/upcoming-events/event/218-christmas-christia
 nity
DTSTART;VALUE=DATE:20101224
LOCATION:JEvents ()
SUMMARY:Christmas (Christianity)
URL:https://www.faithvictoria.org.au/upcoming-events/event/218-christmas-ch
 ristianity
END:VEVENT
END:VCALENDAR
