BEGIN:VCALENDAR
VERSION:2.0
PRODID:-//https://www.faithvictoria.org.au///NONSGML kigkonsult.se iCalcreator 2.10.15//
METHOD:PUBLISH
BEGIN:VEVENT
UID:20260424T203645UTC-1910FOZTEJ@https://www.faithvictoria.org.au/
DTSTAMP:20260424T203645Z
DESCRIPTION:Boxing Day Public Holiday on Monday 27 December (As Boxing Day 
 falls on a Sunday\, this is an additional public holiday) https://www.fait
 hvictoria.org.au/upcoming-events/event/1101-boxing-day-public-holiday-vict
 oria
DTSTART;VALUE=DATE:20211227
LOCATION:RSEvents!Pro Location (Colorado\, USA)
SUMMARY:Boxing Day (Public Holiday Victoria)
URL:https://www.faithvictoria.org.au/upcoming-events/event/1101-boxing-day-
 public-holiday-victoria
END:VEVENT
END:VCALENDAR
