BEGIN:VCALENDAR
VERSION:2.0
PRODID:-//https://www.faithvictoria.org.au///NONSGML kigkonsult.se iCalcreator 2.10.15//
METHOD:PUBLISH
BEGIN:VEVENT
UID:20260419T214330UTC-16440ivawV@https://www.faithvictoria.org.au/
DTSTAMP:20260419T214330Z
DESCRIPTION: \nDear Sisters\,\nPlease find attached a wonderful invitation 
 to share in a meal\, discussion and hymns with the Sikh community at their
  Gurdwara in Blackburn. The date is Wednesday March 9\, 2011. This generou
 s invitation is in honour of International Women’s Day\, which falls year 
 on March 8.\nAll details are on the flyer. Please send this flyer around t
 o women in your community\; let’s bring as many as possible for what promi
 ses to be a night of friendship\, learning\, togetherness and harmony.\nCL
 ICK HERE TO VIEW BROCHURE\nWith love\, respect and friendship\,\nJessiee K
 aur Singh\,  President\,\nwww.winfoundation.netContact DetailsJessiee Kaur
  Singh 0411 300 655   or H.K.Madan 0433 800 582Extra InfoFREE EVENT. ALL I
 NVITED. https://www.faithvictoria.org.au/upcoming-events/event/10-internat
 ional-womens-day
DTSTART:20110309T170000Z
DTEND:20110309T203000Z
LOCATION:The Blackburn Sikh Gurdwara - 127 Maroondah Highway Blackburn (The
  Blackburn Sikh Gurdwara - 127 Maroondah Highway Blackburn)
SUMMARY:International Womens Day
URL:https://www.faithvictoria.org.au/upcoming-events/event/10-international
 -womens-day
END:VEVENT
END:VCALENDAR
