BEGIN:VCALENDAR
VERSION:2.0
PRODID:-//https://www.faithvictoria.org.au///NONSGML kigkonsult.se iCalcreator 2.10.15//
METHOD:PUBLISH
BEGIN:VEVENT
UID:20260421T121543UTC-1849JIWb8g@https://www.faithvictoria.org.au/
DTSTAMP:20260421T121543Z
DESCRIPTION:The Victorian United Nations Day of Vesak invite you to:\nInter
 faith Representatives Procession and Blessing\nDate: Saturday 27 May 2017 
 &nbsp\; &nbsp\; &nbsp\;Time: 1pm to 2pmLocation: Procession begins at Parl
 iament Gardens and ends at Melbourne Town Hall\nVesak is the major Buddhis
 t observance and commemoration. It is also known as ‘Vishakha Puja’ or ‘Bu
 ddha’s Day’. The celebration of Vesak is when Buddhist’s here in Victoria\
 , around Australia and the World observe and recollect the Lord Buddha’s b
 irth\, enlightenment and passing away. &nbsp\;\nIt is commemorated annuall
 y by the United Nations to acknowledge the contribution which Buddhism\, o
 ne of the world’s oldest religions\, has made for over 2600 years and cont
 inues to make to the spirituality of humanity and fostering of world peace
 . https://www.faithvictoria.org.au/upcoming-events/event/1085-vesak-interf
 aith-procession-victorian-united-nations-day-of-vesak-inc
DTSTART:20170527T123000Z
DTEND:20170527T150000Z
LOCATION:Parliament House\, Spring Street Melbourne (Parliament House\, Spr
 ing Street Melbourne)
SUMMARY:Vesak Interfaith Procession: Victorian United Nations Day of Vesak 
 Inc
URL:https://www.faithvictoria.org.au/upcoming-events/event/1085-vesak-inter
 faith-procession-victorian-united-nations-day-of-vesak-inc
END:VEVENT
END:VCALENDAR
