BEGIN:VCALENDAR
VERSION:2.0
PRODID:-//https://www.faithvictoria.org.au///NONSGML kigkonsult.se iCalcreator 2.10.15//
METHOD:PUBLISH
BEGIN:VEVENT
UID:20260419T194846UTC-8324wst63o@https://www.faithvictoria.org.au/
DTSTAMP:20260419T194846Z
DESCRIPTION: \nDear Sisters\,\nWe have been warmly invited to join with the
  Carmelite Centre in Middle Park for their International Women’s Day Celeb
 ration. It will be in the form of a morning tea and a lively discussion le
 d by Bobbie (Roberta) Moore.\nPlease find attached a flyer with details of
  the event\, and below I have included some information about the facilita
 tor.\nHope you can come along.\nCLICK HERE TO VIEW BROCHURE\nWith love\, r
 espect and friendship\,\nHeather Abramson\nSecretary WIN Foundation\n \nBo
 bbie (Roberta) MooreBorn in N.Ireland where I have spent most of my life.
 \nMarried to Raymond for 45 years\n2 sons and a daughter\n3 grandsons\, 2 
 in Australia\, 1 in Dublin\nEarly working life in secretarial/admin field.
 \n17 years as Ireland Representative of Mid-Africa Ministry\, (now part of
  CMS)  an Anglican mission organisation working in partnership with the An
 glican church in Central East Africa .\nThis work involved visits to Ugand
 a\, Rwanda and Burundi\, meeting with church leaders\, mission partners an
 d local Christians.\nTravelling throughout Ireland to encourage support fo
 r the church in Africa\, and teaching biblical mission.\nPastoral care of 
 mission partners at home and on the field\nRunning the Ireland Office and 
 reporting to head office in London\nOrdination as Deacon 2006 and Priest 2
 007\nPastoral Assistant (with Raymond as Priest in charge) of Drung Group 
 of Parishes\, Kilmore Diocese\, Co Cavan in Republic of Ireland 2004 - 200
 9.\nAssociate Priest at St Silas December 2009 – December 2010\nTaking up 
 position as Locum to St Stephens Anglican Parish in Highett from March 201
 1\nMember of Church of Ireland General Synod and synod committees.Contact 
 DetailsTel. (03) 9690 5430  or Email: registration@thecarmelitecentremelbo
 urne.org  OR web www.thecarmelitecentremelbourne.orgExtra InfoCost: $10.00
  or $5.00 concession https://www.faithvictoria.org.au/upcoming-events/even
 t/11-international-womens-day
DTSTART:20110308T093000Z
DTEND:20110308T110000Z
LOCATION:The Carmelite Centre - 214 Richardson St\, Middle Park Vic 3206 (T
 he Carmelite Centre - 214 Richardson St\, Middle Park Vic 3206)
SUMMARY:International Womens Day
URL:https://www.faithvictoria.org.au/upcoming-events/event/11-international
 -womens-day
END:VEVENT
END:VCALENDAR
