BEGIN:VCALENDAR
VERSION:2.0
PRODID:-//https://www.faithvictoria.org.au///NONSGML kigkonsult.se iCalcreator 2.10.15//
METHOD:PUBLISH
BEGIN:VEVENT
UID:20260420T063129UTC-53646ZZwvr@https://www.faithvictoria.org.au/
DTSTAMP:20260420T063129Z
DESCRIPTION:The Maroondah Interfaith Network invites you to:\nInterfaith Po
 etry Workshop\nDate: Sunday 26 November 217&nbsp\; &nbsp\; &nbsp\; &nbsp\;
 Time: 2pm to 4:30pmLocation: Ringwood Uniting Church\, 30-32 Station St\, 
 Ringwood VIC 3134 (cnr of Greenwood Avenue)\nExplore poetry from a variety
  of faith traditions with Rev Tony Duncan. And try your hand at writing so
 me poetry with Dr Di Cousen. This is a unique workshop for everyone intere
 sted in poetry and in human beings reaching beyond the everyday.\nFree ent
 ry but please register.\nRegistration:&nbsp\;https://www.eventbrite.com.au
 /e/interfaith-poetry-workshop-tickets-35062504896 https://www.faithvictori
 a.org.au/upcoming-events/event/1222-interfaith-poetry-workshop-maroondah-i
 nterfaith-network
DTSTART:20171126T140000Z
DTEND:20171126T163000Z
LOCATION:Ringwood Uniting Church\, 330-32 Station Street\, Ringwood\, 3134 
 (330/32 Station Street\, Bayswater VIC 3153\, Australia)
SUMMARY:Interfaith Poetry Workshop: Maroondah Interfaith Network
URL:https://www.faithvictoria.org.au/upcoming-events/event/1222-interfaith-
 poetry-workshop-maroondah-interfaith-network
END:VEVENT
END:VCALENDAR
