BEGIN:VCALENDAR
VERSION:2.0
PRODID:-//https://www.faithvictoria.org.au///NONSGML kigkonsult.se iCalcreator 2.10.15//
METHOD:PUBLISH
BEGIN:VEVENT
UID:20210301T135155AEST-8788UFMlJ5@https://www.faithvictoria.org.au/
DTSTAMP:20210301T035155Z
DESCRIPTION:EpiphanyWednesday&nbsp\;6.1.2021Religion: Christianity\nSignify
 ing the end of the 12 days of Christmas\, Epiphany celebrates the visit of
  the Three Kings to the infant Jesus as the occasion of the manifestation 
 of the Christ to the gentiles. https://www.faithvictoria.org.au/upcoming-e
 vents/event/1226-epiphany-christianity
DTSTART;VALUE=DATE:20210106
LOCATION:RSEvents!Pro Location (Colorado\, USA)
SUMMARY:Epiphany (Christianity)
URL:https://www.faithvictoria.org.au/upcoming-events/event/1226-epiphany-ch
 ristianity
END:VEVENT
END:VCALENDAR
