BEGIN:VCALENDAR
VERSION:2.0
PRODID:-//https://www.faithvictoria.org.au///NONSGML kigkonsult.se iCalcreator 2.10.15//
METHOD:PUBLISH
BEGIN:VEVENT
UID:20210301T135547AEST-2933vK6POu@https://www.faithvictoria.org.au/
DTSTAMP:20210301T035547Z
DESCRIPTION:Birthday of Guru Gobind Singh (10th Guru) Tuesday&nbsp\;20 Janu
 ary 2021Faith: Sikhism\nGuru Gobind Singh (1666-1708)\, the 10th and final
  Sikh master\, created the Khalsa (the Community of the Pure) and declared
  the Scriptures (Guru Granth Sahib) to be the Sikh's Guru from that time o
 n. https://www.faithvictoria.org.au/upcoming-events/event/1229-birthday-of
 -sri-guru-gobind-singh-ji-sikhism
DTSTART;VALUE=DATE:20210120
LOCATION:RSEvents!Pro Location (Colorado\, USA)
SUMMARY:Birthday of Sri Guru Gobind Singh Ji (Sikhism)
URL:https://www.faithvictoria.org.au/upcoming-events/event/1229-birthday-of
 -sri-guru-gobind-singh-ji-sikhism
END:VEVENT
END:VCALENDAR
