BEGIN:VCALENDAR
VERSION:2.0
PRODID:-//https://www.faithvictoria.org.au///NONSGML kigkonsult.se iCalcreator 2.10.15//
METHOD:PUBLISH
BEGIN:VEVENT
UID:20210301T135216AEST-3737XSVi4e@https://www.faithvictoria.org.au/
DTSTAMP:20210301T035216Z
DESCRIPTION:Nativity/Theophany&nbsp\;Thursday&nbsp\;7.1.2021Religion: Ortho
 dox Christianity\nTheophany commemorates the baptism of Jesus and the mani
 festation of Trinity.\n&nbsp\; https://www.faithvictoria.org.au/upcoming-e
 vents/event/1230-nativity-orthodox-christianity
DTSTART;VALUE=DATE:20210107
LOCATION:RSEvents!Pro Location (Colorado\, USA)
SUMMARY:Nativity (Orthodox Christianity)
URL:https://www.faithvictoria.org.au/upcoming-events/event/1230-nativity-or
 thodox-christianity
END:VEVENT
END:VCALENDAR
