BEGIN:VCALENDAR
VERSION:2.0
PRODID:-//https://www.faithvictoria.org.au///NONSGML kigkonsult.se iCalcreator 2.10.15//
METHOD:PUBLISH
BEGIN:VEVENT
UID:20210301T132047AEST-1846JaAedl@https://www.faithvictoria.org.au/
DTSTAMP:20210301T032047Z
DESCRIPTION:Martyrdom of Guru Arjun Dev JiWednesday&nbsp\;16 June 2021Relig
 ion: Sikhism\nGuru Arjan Dev (1563-1606)\, the 5th Guru\, was the first ma
 rtyr-guru. He was responsible for the compilation of the Sikh scriptures i
 n 1604 CE. He also helped to build the Golden Temple at Amritsar and empha
 sized that the Sikh way was open to all\, regardless of caste. https://www
 .faithvictoria.org.au/upcoming-events/event/1269-martyrdom-of-guru-arjun-d
 ev-ji-sikhism
DTSTART;VALUE=DATE:20210616
LOCATION:RSEvents!Pro Location (Colorado\, USA)
SUMMARY: Martyrdom of Guru Arjun Dev Ji (Sikhism)
URL:https://www.faithvictoria.org.au/upcoming-events/event/1269-martyrdom-o
 f-guru-arjun-dev-ji-sikhism
END:VEVENT
END:VCALENDAR
