BEGIN:VCALENDAR
VERSION:2.0
PRODID:-//https://www.faithvictoria.org.au///NONSGML kigkonsult.se iCalcreator 2.10.15//
METHOD:PUBLISH
BEGIN:VEVENT
UID:20210301T132123AEST-5239SgUSng@https://www.faithvictoria.org.au/
DTSTAMP:20210301T032123Z
DESCRIPTION:Martyrdom of the BabFriday&nbsp\;9 July 2021Religion: Baha'i\nB
 aha’i commemoration of the anniversary of the execution of the Bab (Siyyid
  ‘AliMuhammad)\, the herald of the Baha’i Faith\, by a firing squad on Jul
 y 9 1850\, in Tabriz\, Persia (now Iran). https://www.faithvictoria.org.au
 /upcoming-events/event/1271-martyrdom-of-the-bab-baha-i
DTSTART;VALUE=DATE:20210709
LOCATION:RSEvents!Pro Location (Colorado\, USA)
SUMMARY:Martyrdom of the Bab (Baha'i)
URL:https://www.faithvictoria.org.au/upcoming-events/event/1271-martyrdom-o
 f-the-bab-baha-i
END:VEVENT
END:VCALENDAR
