BEGIN:VCALENDAR
VERSION:2.0
PRODID:-//https://www.faithvictoria.org.au///NONSGML kigkonsult.se iCalcreator 2.10.15//
METHOD:PUBLISH
BEGIN:VEVENT
UID:20260424T142538UTC-5304LFv7Le@https://www.faithvictoria.org.au/
DTSTAMP:20260424T142538Z
DESCRIPTION:Boddhi DayMonday 10 January&nbsp\;2022Religion: Buddhism Bodhi 
 Day is a Buddhist holiday commemorating the day the historical Buddha\, Si
 ddhartha Gautama reached enlightenment around 596 BCE. Prince Gautama took
  his place under the Bodhi tree vowing to remain there until he attained s
 upreme enlightenment.[Also celebrated on the 8th of December in the solar 
 calendar] https://www.faithvictoria.org.au/upcoming-events/event/1296-bodh
 i-day-buddhism
DTSTART;VALUE=DATE:20220110
LOCATION:RSEvents!Pro Location (Colorado\, USA)
SUMMARY:Bodhi Day (Buddhism)
URL:https://www.faithvictoria.org.au/upcoming-events/event/1296-bodhi-day-b
 uddhism
END:VEVENT
END:VCALENDAR
