BEGIN:VCALENDAR
VERSION:2.0
PRODID:-//https://www.faithvictoria.org.au///NONSGML kigkonsult.se iCalcreator 2.10.15//
METHOD:PUBLISH
BEGIN:VEVENT
UID:20260422T215203UTC-3660ev7XpW@https://www.faithvictoria.org.au/
DTSTAMP:20260422T215203Z
DESCRIPTION:ChristmasSunday 25 December 2022Religion: Christianity\nChristm
 as is the celebration of the birth of Jesus Christ\, who is considered by 
 Christians to be the Son of God\, and the savior of all people.\n[Celebrat
 ed on January 7th 2023 by some Orthodox Churches]. https://www.faithvictor
 ia.org.au/upcoming-events/event/1297-christmas-christianity
DTSTART;VALUE=DATE:20221225
LOCATION:RSEvents!Pro Location (Colorado\, USA)
SUMMARY:Christmas (Christianity)
URL:https://www.faithvictoria.org.au/upcoming-events/event/1297-christmas-c
 hristianity
END:VEVENT
END:VCALENDAR
