BEGIN:VCALENDAR
VERSION:2.0
PRODID:-//https://www.faithvictoria.org.au///NONSGML kigkonsult.se iCalcreator 2.10.15//
METHOD:PUBLISH
BEGIN:VEVENT
UID:20260423T151635UTC-6695SIo5Nl@https://www.faithvictoria.org.au/
DTSTAMP:20260423T151635Z
DESCRIPTION:National Reconciliation Week 2020Starts on: Thursday 27 May 202
 1Ends on: Thursday 3 June 2021\nFor more information:&nbsp\;https://www.re
 conciliation.org.au/national-reconciliation-week/ https://www.faithvictori
 a.org.au/upcoming-events/event/1323-national-reconciliation-week
DTSTART:20210527T000000Z
DTEND:20210603T212623Z
LOCATION:RSEvents!Pro Location (Colorado\, USA)
SUMMARY:National Reconciliation Week 
URL:https://www.faithvictoria.org.au/upcoming-events/event/1323-national-re
 conciliation-week
END:VEVENT
END:VCALENDAR
