BEGIN:VCALENDAR
VERSION:2.0
PRODID:-//https://www.faithvictoria.org.au///NONSGML kigkonsult.se iCalcreator 2.10.15//
METHOD:PUBLISH
BEGIN:VEVENT
UID:20260423T151859UTC-6539ldLa9I@https://www.faithvictoria.org.au/
DTSTAMP:20260423T151859Z
DESCRIPTION:UN International Human Rights Day 2019\nFor more information:&n
 bsp\;http://www.un.org/en/events/humanrightsday/ https://www.faithvictoria
 .org.au/upcoming-events/event/1324-un-international-human-rights-day-2019
DTSTART;VALUE=DATE:20191210
LOCATION:RSEvents!Pro Location (Colorado\, USA)
SUMMARY:UN International Human Rights Day 2019
URL:https://www.faithvictoria.org.au/upcoming-events/event/1324-un-internat
 ional-human-rights-day-2019
END:VEVENT
END:VCALENDAR
