BEGIN:VCALENDAR
VERSION:2.0
PRODID:-//https://www.faithvictoria.org.au///NONSGML kigkonsult.se iCalcreator 2.10.15//
METHOD:PUBLISH
BEGIN:VEVENT
UID:20210301T132105AEST-0202JKxO5I@https://www.faithvictoria.org.au/
DTSTAMP:20210301T032105Z
DESCRIPTION:World Refugee Day 2021\nFor more information:&nbsp\;http://www.
 un.org/en/events/refugeeday/ https://www.faithvictoria.org.au/upcoming-eve
 nts/event/1325-world-refugee-day
DTSTART;VALUE=DATE:20210620
LOCATION:Melbourne VIC 3000 (Melbourne VIC\, Australia)
SUMMARY:World Refugee Day 
URL:https://www.faithvictoria.org.au/upcoming-events/event/1325-world-refug
 ee-day
END:VEVENT
END:VCALENDAR
