BEGIN:VCALENDAR
VERSION:2.0
PRODID:-//https://www.faithvictoria.org.au///NONSGML kigkonsult.se iCalcreator 2.10.15//
METHOD:PUBLISH
BEGIN:VEVENT
UID:20260421T100742UTC-29870C3MCl@https://www.faithvictoria.org.au/
DTSTAMP:20260421T100742Z
DESCRIPTION:JCMA WINTER CONFERENCE\nThe Hand of Welcome Hospitality in our 
 3 Faiths\nYour invitation to the EIGHTH Residential Conferenceof Jews\, Ch
 ristians and Muslims in AustraliaDates: 3rd - 6th July 2011    (Sunday – W
 ednesday)\nThe Conference will include:• The hospitality of God: the spiri
 tual dimension of hospitality.\n• Studies in the sacred texts of our three
  faiths on the theme of hospitality.\n• Our hospitality to each other- in 
 prayer and worship    - in small reflection groups   - in eating together 
    - in shared leisure time\n• The boundaries of hospitality for faith com
 munities: How we welcome each other. What are the limits?\n• How people of
  our three faiths show God’s hospitality to the wider community\, to refug
 ees and asylum seekers\, to the homeless\, to the stranger etc.\nAll-inclu
 sive Conference Fees:Single room: $355 per person    Shared room: $325 per
  person    Couple: $650• A concessional rate may be available       • Chil
 d care fees on application\nCLICK HERE TO VIEW BROCHURE & REGISTRATION FOR
 MExtra InfoRegistrations by Friday 3rd June\, 2011 to:JCMA Office\, GPO Bo
 x 598 Melbourne Vic 3001Fax: (03) 9650 8383  Email: registrations@jcma.org
 .au https://www.faithvictoria.org.au/upcoming-events/event/16-jcma-winter-
 conference
DTSTART:20110703T000000Z
DTEND:20110706T235959Z
LOCATION:Venue: Conference Centre\, Pallotti College - 80 McNamaras Rd\, Mi
 llgrove (Melways: Map 289 A2) (Venue: Conference Centre\, Pallotti College
  - 80 McNamaras Rd\, Millgrove (Melways: Map 289 A2))
SUMMARY:JCMA Winter Conference
URL:https://www.faithvictoria.org.au/upcoming-events/event/16-jcma-winter-c
 onference
END:VEVENT
END:VCALENDAR
