BEGIN:VCALENDAR
VERSION:2.0
PRODID:-//https://www.faithvictoria.org.au///NONSGML kigkonsult.se iCalcreator 2.10.15//
METHOD:PUBLISH
BEGIN:VEVENT
UID:20260422T074520UTC-3052kGDObL@https://www.faithvictoria.org.au/
DTSTAMP:20260422T074520Z
DESCRIPTION:Maroondah Interfaith Network invites you to:\nCompassion - Semi
 nar Series 2021\nDate: Sunday 18 July 2021&nbsp\; &nbsp\; &nbsp\;Time: 3pm
 Location: Online (zoom)\nCompassion lies at the heart of most religions an
 d is the foundation for family and society. Yet\, each religion understand
 s and expresses compassion in its own way. These seminars are opportunitie
 s for discussion between the various religions so that we can understand e
 ach other better and work with each other more effectively. Seminar will s
 tart with a short meditation.\nDr Thein Nguyen (Janssen Spirituality Centr
 e) and Norm Currie will introduce the topic. They have been developing pod
 casts which they have called 'Love Dialogues'. This will be a zoom session
 .&nbsp\;\nWe anticipate that this series will continue in 2022\, and will 
 climax with an Interfaith Cafe on Sunday 20 March 2022.&nbsp\;\nAll semina
 rs are free.\nRegistration is encouraged. Please click here for registrati
 on.&nbsp\;\n&nbsp\; https://www.faithvictoria.org.au/upcoming-events/event
 /1801-seminar-1-compassion-seminar-series-2021-maroondah-interfaith-networ
 k
DTSTART:20210718T150000Z
DTEND:20210718T170000Z
LOCATION:Melbourne VIC 3000 (Melbourne VIC\, Australia)
SUMMARY:Seminar 1 Compassion Seminar Series 2021: Maroondah Interfaith Netw
 ork
URL:https://www.faithvictoria.org.au/upcoming-events/event/1801-seminar-1-c
 ompassion-seminar-series-2021-maroondah-interfaith-network
END:VEVENT
END:VCALENDAR
