BEGIN:VCALENDAR
VERSION:2.0
PRODID:-//https://www.faithvictoria.org.au///NONSGML kigkonsult.se iCalcreator 2.10.15//
METHOD:PUBLISH
BEGIN:VEVENT
UID:20260422T171632UTC-0158fDmBUH@https://www.faithvictoria.org.au/
DTSTAMP:20260422T171632Z
DESCRIPTION:The Victorian Council of Churches invites you to:\nHolding the 
 Light&nbsp\;\nDate: Sunday 28 November 2021&nbsp\; &nbsp\; &nbsp\;Time: 2:
 30pmLocation: St Peter's Eastern Hill\, 15 Gisborne Street\, East Melbourn
 e VIC 3002\nAn ecumenical service remembering victims and survivors of fam
 ily domestic violence.&nbsp\;\nThe Victorian Council of Churches strongly 
 encourages all to attend this annual event that offers a time of reflectio
 n and recommitment to ending domestic violence perpetrated in the name of 
 faith and experienced within our faith communities. https://www.faithvicto
 ria.org.au/upcoming-events/event/1830-holding-the-light-victorian-council-
 of-churches
DTSTART:20211128T143000Z
DTEND:20211128T160000Z
LOCATION:St Peter's Eastern Hill\, East Melbourne\, 15 Gisborne Street\, Ea
 st Melbourne VIC 3002 (15 Gisborne St\, East Melbourne VIC 3002\, Australi
 a)
SUMMARY:Holding the light: Victorian Council of Churches
URL:https://www.faithvictoria.org.au/upcoming-events/event/1830-holding-the
 -light-victorian-council-of-churches
END:VEVENT
END:VCALENDAR
