BEGIN:VCALENDAR
VERSION:2.0
PRODID:-//https://www.faithvictoria.org.au///NONSGML kigkonsult.se iCalcreator 2.10.15//
METHOD:PUBLISH
BEGIN:VEVENT
UID:20260424T183724UTC-9661MvrDvU@https://www.faithvictoria.org.au/
DTSTAMP:20260424T183724Z
DESCRIPTION:Knox Interfaith Network invites you to:\nKnox Interfaith Tour |
  Visit to ISOMER Mosque\, Lysterfield\nDate:&nbsp\;Monday 6 June 2022&nbsp
 \; &nbsp\; &nbsp\;Time: 10:30am to 2:00pmLocation:&nbsp\;1273 Wellington R
 d\,&nbsp\;Lysterfield VIC 3156\nLearn about other faiths. Discuss beliefs 
 and traditions. Appreciate the diverse faiths that make up our community. 
 Through knowledge\, understanding and respect\, we can strengthen and buil
 d on the rich heritage everyone brings to our community.\nA shared meal is
  included and the tours are free of charge\, being funded through the Stat
 e Government's Multicultural Festivals and Events program.\nThe tour will 
 focus on one faith community at a time\, providing a more comprehensive vi
 siting experience.\nStrictly limited seats. Bookings essentialTo book cont
 act Mark | 0439 104 053 | mark@templesociety.org.au\n&nbsp\; https://www.f
 aithvictoria.org.au/upcoming-events/event/1861-knox-interfaith-tour-no-2-2
 022-knox-interfaith-network
DTSTART:20220606T103000Z
DTEND:20220606T140000Z
LOCATION:Knox City Council\, 511 Burwood Highway\, Wantirna South VIC 3152 
 (511 Burwood Hwy\, Wantirna South VIC 3152\, Australia)
SUMMARY:Knox Interfaith Tour No.2 2022: Knox Interfaith Network
URL:https://www.faithvictoria.org.au/upcoming-events/event/1861-knox-interf
 aith-tour-no-2-2022-knox-interfaith-network
END:VEVENT
END:VCALENDAR
