BEGIN:VCALENDAR
VERSION:2.0
PRODID:-//https://www.faithvictoria.org.au///NONSGML kigkonsult.se iCalcreator 2.10.15//
METHOD:PUBLISH
BEGIN:VEVENT
UID:20260422T075430UTC-43320KOjkn@https://www.faithvictoria.org.au/
DTSTAMP:20260422T075430Z
DESCRIPTION:Victorian Transcultural Mental Health invites you to:\nSpiritua
 lity\, spiritual care and mental health: What’s the correlation?\nDate: We
 dnesday 20 July 2022&nbsp\; &nbsp\; &nbsp\; Time: 3pm to 4pmLocation: Onli
 ne (link will be sent to those who register)\nSpeakers\n\nEvan Bichara - M
 ental Health Advocate\, Community Educator\, Researcher &amp\; Publisher o
 f ‘Strengths Model of Case Management’ and Multicultural Advisor\nHannah F
 riebel - Consumer Consultant\, Adjunct Research Associate\, Project Lead\,
  Higher Education Student\, Artist\, and Documentary Film Maker\nMaria Dim
 opoulos - Artist\, Museum Curator and Lived Experience Consultant\nKevin T
 reloar - Peer Cadet\, Student and Volunteer Buddhist Spiritual Care Practi
 tioner\nJenny Greenham - Mental Health Leader\, Spiritual Health Associati
 on\n\nAbout the session\nThis presentation will introduce participants to 
 the work SHELAC is undertaking to advance mental health reform to reflect 
 holistic person-centred care.\nWe will review our understanding of spiritu
 ality in the contemporary context and how it supports personal recovery.\n
 Four expert lived experience panellists will share how their connection to
  their spirituality has supported and enhanced their mental health\, wellb
 eing\, and recovery. They will outline their vision for compassionate pers
 on-centred mental health care that considers the spiritual domain of human
  expression and brings us another step closer to realising the biopsychoso
 cial-spiritual model of holistic care.\nThis session will be presented onl
 ine via Zoom - details will be sent to registrants in advance. Please clic
 k here to register.&nbsp\;\nVTMH seminars are open to individuals\, from a
 ll disciplines and working in all sectors\, who are based in Australia and
  interested in diversity and mental health.\n&nbsp\; https://www.faithvict
 oria.org.au/upcoming-events/event/1881-spirituality-spiritual-care-and-men
 tal-health-what-s-the-correlation-victorian-transcultural-mental-health
DTSTART:20220720T150000Z
DTEND:20220720T160000Z
LOCATION:Melbourne VIC 3000 (Melbourne VIC\, Australia)
SUMMARY:Spirituality\, spiritual care and mental health: What’s the correla
 tion?: Victorian Transcultural Mental Health
URL:https://www.faithvictoria.org.au/upcoming-events/event/1881-spiritualit
 y-spiritual-care-and-mental-health-what-s-the-correlation-victorian-transc
 ultural-mental-health
END:VEVENT
END:VCALENDAR
