BEGIN:VCALENDAR
VERSION:2.0
PRODID:-//https://www.faithvictoria.org.au///NONSGML kigkonsult.se iCalcreator 2.10.15//
METHOD:PUBLISH
BEGIN:VEVENT
UID:20260420T043723UTC-23364u7VmN@https://www.faithvictoria.org.au/
DTSTAMP:20260420T043723Z
DESCRIPTION:Contemplative Studies Centre at Melbourne University invites yo
 u to:\nVipassana meditation as a rigorous phenomenology\nDate: Wednesday 2
 7 July 2022&nbsp\; &nbsp\; &nbsp\;Time: 1pm to 2pmLocation: Webinar\nIn th
 is presentation\, Dr Sonam Thakchoe argues that phenomenology holds the ce
 ntre stage of all Buddhist contemplative and philosophical practices becau
 se a critical analysis of direct ﬁrst-person experience (vedanā) is its co
 re concern at the beginning\, the middle and the end. Ultimately\, Buddhis
 m is all about the transformation of the naïve and reiﬁed way we ordinaril
 y experience the world and how to introduce a radical transformation in or
 der to bring an end to suﬀering. He will unpack and support his claim by d
 rawing on the insight of Vipassanā meditation practice as taught by S. N. 
 Goenka and the two foundational texts of Buddhist phenomenology. He will e
 xplore how Buddhist phenomenology begins with an observation and analysis 
 of ordinary experience – speciﬁcally\, how ordinary beings take up the wor
 ld of experience and how that causes suﬀering as. He further explores how 
 Buddhist phenomenology progressively continues its analysis of direct ﬁrst
 -person experience – speciﬁcally how advanced meditators take up the world
  of direct experience and how that brings an end to the suﬀering.\nThis ev
 ent will be facilitated by Associate Professor Nicholas Van Dam\, Director
  of the Contemplative Studies Centre. There will be an opportunity for Q&a
 mp\;A at the end.\nThis seminar is part of the Contemplative Studies Centr
 e’s ‘Wise Words’ series\, an interdisciplinary academic exchange aimed at 
 advancing the field of contemplative science. These events are delivered i
 n academic language and designed for academics and students.\nTo register\
 , click here&nbsp\;Cost: Free\n&nbsp\; https://www.faithvictoria.org.au/up
 coming-events/event/1886-vipassana-meditation-as-a-rigorous-phenomenology-
 contemplative-studies-centre
DTSTART:20220727T130000Z
DTEND:20220727T140000Z
LOCATION:Melbourne VIC 3000 (Melbourne VIC\, Australia)
SUMMARY:Vipassana meditation as a rigorous phenomenology: Contemplative Stu
 dies Centre
URL:https://www.faithvictoria.org.au/upcoming-events/event/1886-vipassana-m
 editation-as-a-rigorous-phenomenology-contemplative-studies-centre
END:VEVENT
END:VCALENDAR
