BEGIN:VCALENDAR
VERSION:2.0
PRODID:-//https://www.faithvictoria.org.au///NONSGML kigkonsult.se iCalcreator 2.10.15//
METHOD:PUBLISH
BEGIN:VEVENT
UID:20260421T134145UTC-0689j7pkBc@https://www.faithvictoria.org.au/
DTSTAMP:20260421T134145Z
DESCRIPTION:The Interfaith Centre of Melbourne and St Michael's Uniting Chu
 rch invite you to:\nSacred Expressions of the Human Spirit\nDate: Sunday 2
 0 November 2022&nbsp\; &nbsp\; &nbsp\; Time: 4pmLocation:&nbsp\;St Michael
 's Uniting Church\, 120 Collins Street\, Melbourne\n'The mystics of the wo
 rld have always loved music best' -&nbsp\;Hazrat Inayat Khan\nThis Concert
  of Sacred Music\, music that expresses the universal yearning that is sha
 red by people of all cultures brings together Australia’s First Nations Di
 dgeridoo master alongside some of Australia’s leading sacred music practit
 ioners. This concert of the spirit will explore the yearning that our spir
 itual traditions offer with sublime artistry and the chance for deep medit
 ative reflection. Starting with the oldest extant tradition of the world\,
  our musical tradition of this country we pass the depth of Vedic chanting
 \, the wealth of Jewish and Islamic sacred song\, the ecstasy of the Sikh 
 Kirtan and the introversion of the contemporary composer John Tavener.\nwi
 th\n\nWilliam Barton\, Didgeridoo\, voice\, guitar.\nVenerable Thich Phuoc
  Tan OAM\, Buddhist Chants\nSwami Sunishthananda\, Vedic Chants\nHeather L
 ee Soprano\, accompanied by Kim Cunio\, Sephardi and Ashkenazi Jewish musi
 c\, Classical Arabic love music\nJasbir Suropada Singh and Param Kaur\, Gu
 rbani Kirtan\nGloriana Chamber Choir\, Director: Andrew Raiskums\n\nFree c
 oncert. Registration essential:&nbsp\;https://interfaithcentre.eventbrite.
 com.au https://www.faithvictoria.org.au/upcoming-events/event/1919-sacred-
 expressions-of-the-human-spirit-the-interfaith-centre-of-melbourne
DTSTART:20221120T160000Z
DTEND:20221120T173000Z
LOCATION:St Michael's Uniting Church 120 Collins Street\, Melbourne (St Mic
 hael's Uniting Church 120 Collins Street\, Melbourne)
SUMMARY:Sacred Expressions of the Human Spirit: The Interfaith Centre of Me
 lbourne
URL:https://www.faithvictoria.org.au/upcoming-events/event/1919-sacred-expr
 essions-of-the-human-spirit-the-interfaith-centre-of-melbourne
END:VEVENT
END:VCALENDAR
