BEGIN:VCALENDAR
VERSION:2.0
PRODID:-//https://www.faithvictoria.org.au///NONSGML kigkonsult.se iCalcreator 2.10.15//
METHOD:PUBLISH
BEGIN:VEVENT
UID:20260424T121106UTC-5659Bwjugx@https://www.faithvictoria.org.au/
DTSTAMP:20260424T121106Z
DESCRIPTION:Holy Day: Mahavira Nirvana (Diwali)Date: Friday 1 November 2024
 Faith: Jainism\nDescription: This is India’s annual festival of lights\, c
 elebrated throughout the nation. In Jainism it has special significance\, 
 as on this day Lord Mahavira gave his last teachings and attained ultimate
  liberation (nirvana). https://www.faithvictoria.org.au/upcoming-events/ev
 ent/2083-mahavir-nirvana-jainism
DTSTART;VALUE=DATE:20241101
LOCATION:RSEvents!Pro Location (Colorado\, USA)
SUMMARY:Mahavir Nirvana | Jainism
URL:https://www.faithvictoria.org.au/upcoming-events/event/2083-mahavir-nir
 vana-jainism
END:VEVENT
END:VCALENDAR
