BEGIN:VCALENDAR
VERSION:2.0
PRODID:-//https://www.faithvictoria.org.au///NONSGML kigkonsult.se iCalcreator 2.10.15//
METHOD:PUBLISH
BEGIN:VEVENT
UID:20260420T044003UTC-3472s55GIB@https://www.faithvictoria.org.au/
DTSTAMP:20260420T044003Z
DESCRIPTION:Federation of Ethnic Communities' Council of Australia invites 
 you to:\nMulticultural Representation in the Order of Australia webinar\nD
 ate: Tuesday 20 June 2023&nbsp\; &nbsp\; &nbsp\;Time: 6pm to 7pmLocation: 
 Online via Zoom (Click here to register)\nFECCA is excited to bring you a 
 webinar which presents information about the Order of Australia.&nbsp\;\nJ
 oin us to hear from our CEO Mohammad Al-Khafaji\, who will talk about why 
 the Order of Australia is important and learn about his personal experienc
 e of nominating.&nbsp\;\nWe will be joined by Mmebers of the Honours and A
 wards Secretariat\, who will provide information about how to nominate and
  how the selection process works.\nWe will also have a Q&amp\;Z session. P
 lease feel free to send us your questions ahead of the webinar or post the
 m in the comments section on the day.&nbsp\;\n&nbsp\; https://www.faithvic
 toria.org.au/upcoming-events/event/2121-multicultural-representation-in-th
 e-order-of-australia-federation-of-ethnic-communities-council-of-australia
DTSTART:20230620T180000Z
DTEND:20230620T190000Z
LOCATION:Melbourne VIC 3000 (Melbourne VIC\, Australia)
SUMMARY:Multicultural Representation in the Order of Australia: Federation 
 of Ethnic Communities' Council of Australia
URL:https://www.faithvictoria.org.au/upcoming-events/event/2121-multicultur
 al-representation-in-the-order-of-australia-federation-of-ethnic-communiti
 es-council-of-australia
END:VEVENT
END:VCALENDAR
