BEGIN:VCALENDAR
VERSION:2.0
PRODID:-//https://www.faithvictoria.org.au///NONSGML kigkonsult.se iCalcreator 2.10.15//
METHOD:PUBLISH
BEGIN:VEVENT
UID:20260423T155752UTC-9510acSfEN@https://www.faithvictoria.org.au/
DTSTAMP:20260423T155752Z
DESCRIPTION:Nirvana DaySaturday 15 February 2025Religion: Buddhism (Mahayan
 a)\nNirvana Day (or Parinirvana Day) is a Mahayana Buddhist holiday which 
 celebrates the day when the Buddha is said to have achieved Parinirvana (c
 omplete enlightenment) upon the death of his physical body. https://www.fa
 ithvictoria.org.au/upcoming-events/event/2189-nirvana-day-buddhism
DTSTART;VALUE=DATE:20250215
LOCATION:RSEvents!Pro Location (Colorado\, USA)
SUMMARY:Nirvana Day (Buddhism)
URL:https://www.faithvictoria.org.au/upcoming-events/event/2189-nirvana-day
 -buddhism
END:VEVENT
END:VCALENDAR
