BEGIN:VCALENDAR
VERSION:2.0
PRODID:-//https://www.faithvictoria.org.au///NONSGML kigkonsult.se iCalcreator 2.10.15//
METHOD:PUBLISH
BEGIN:VEVENT
UID:20260424T110502UTC-8317emXcnp@https://www.faithvictoria.org.au/
DTSTAMP:20260424T110502Z
DESCRIPTION:Gantan-sai is the Shinto celebration of the new year (oshogatsu
 ). This day is one of the most popular for shrine visits\, as many pray fo
 r inner renewal\, good health and prosperity. During the seven days of the
  holiday\, people visit each other's homes to offer good wishes for the co
 ming year. https://www.faithvictoria.org.au/upcoming-events/event/221-gant
 an-sai-shinto
DTSTART;VALUE=DATE:20101231
LOCATION:JEvents ()
SUMMARY:Gantan-sai (Shinto)
URL:https://www.faithvictoria.org.au/upcoming-events/event/221-gantan-sai-s
 hinto
END:VEVENT
END:VCALENDAR
