BEGIN:VCALENDAR
VERSION:2.0
PRODID:-//https://www.faithvictoria.org.au///NONSGML kigkonsult.se iCalcreator 2.10.15//
METHOD:PUBLISH
BEGIN:VEVENT
UID:20260424T230421UTC-1265sE7UJH@https://www.faithvictoria.org.au/
DTSTAMP:20260424T230421Z
DESCRIPTION:KshamavaniMonday 8 September 2025Faith: Jainism\nKnown as 'Forg
 iveness Day'\, Kshamavani is celebrated on the last day of Daslakshana. On
  this day\, Jains (Digambara sect) offer and seek forgiveness for actions 
 committed knowingly or unknowingly. https://www.faithvictoria.org.au/upcom
 ing-events/event/2234-kshamavani-jainism
DTSTART;VALUE=DATE:20250908
LOCATION:RSEvents!Pro Location (Colorado\, USA)
SUMMARY:Kshamavani | Jainism
URL:https://www.faithvictoria.org.au/upcoming-events/event/2234-kshamavani-
 jainism
END:VEVENT
END:VCALENDAR
