BEGIN:VCALENDAR
VERSION:2.0
PRODID:-//https://www.faithvictoria.org.au///NONSGML kigkonsult.se iCalcreator 2.10.15//
METHOD:PUBLISH
BEGIN:VEVENT
UID:20260420T025144UTC-8382xtw6f8@https://www.faithvictoria.org.au/
DTSTAMP:20260420T025144Z
DESCRIPTION:Interfaith Network\, City of Greater Dandenong invites you to t
 he:\n36th Annual Gathering | Signing of the Common Statement\nDate: Tuesda
 y 20 August 2024&nbsp\; &nbsp\; &nbsp\;Time: 9am to 11:30amLocation:&nbsp\
 ;The Dandenong Chambers and Formal Meeting Room\, Level 2\, 225 Lonsdale S
 treet\, Dandenong&nbsp\;\n9:00am&nbsp\; &nbsp\; Arrival9:15am&nbsp\; &nbsp
 \; Start10:30am-11:30am&nbsp\; &nbsp\; Morning Tea served\nRSVP by Monday 
 12 August 2024 to administration@interfaithnetwork.org.au&nbsp\;| Please a
 dvise of any dietary requirements for the morning tea\nFor parking options
 \, please click here.&nbsp\; https://www.faithvictoria.org.au/upcoming-eve
 nts/event/2260-signing-of-the-common-statement-interfaith-network-city-of-
 greater-dandenong
DTSTART:20240820T090000Z
DTEND:20240820T113000Z
LOCATION:The Dandenong Chambers and Formal Meeting Room\, Level 2\, 225 Lon
 sdale Street\, Dandenong VIC 3175 (225 Lonsdale St\, Dandenong South VIC 3
 175\, Australia)
SUMMARY:Signing of the Common Statement: Interfaith Network City of Greater
  Dandenong
URL:https://www.faithvictoria.org.au/upcoming-events/event/2260-signing-of-
 the-common-statement-interfaith-network-city-of-greater-dandenong
END:VEVENT
END:VCALENDAR
