BEGIN:VCALENDAR
VERSION:2.0
PRODID:-//https://www.faithvictoria.org.au///NONSGML kigkonsult.se iCalcreator 2.10.15//
METHOD:PUBLISH
BEGIN:VEVENT
UID:20260423T162826UTC-1719fbG19w@https://www.faithvictoria.org.au/
DTSTAMP:20260423T162826Z
DESCRIPTION: \nEid al-Fitr (also known as Eid ul-Fitr) marks the end of the
  month-long fast of Ramadan and the start of three-day feast.  It is a bus
 y time for mosques with worshipers flocking for early morning prayers. Man
 y Muslims dress in their finest clothes and adorn their homes with lights 
 and other decorations.Old wrongs are forgiven and money is given to the po
 or. Special foods are prepared and friends or relatives are invited to sha
 re the feast. Gifts and greeting cards are exchanged and children receive 
 presents.  Eid al-Fitr is a joyous occasion but its underlying purpose is 
 to praise and give thanks to God. https://www.faithvictoria.org.au/upcomin
 g-events/event/233-eid-al-fitr-islam
DTSTART;VALUE=DATE:20110830
LOCATION:JEvents ()
SUMMARY:Eid al-Fitr (Islam)
URL:https://www.faithvictoria.org.au/upcoming-events/event/233-eid-al-fitr-
 islam
END:VEVENT
END:VCALENDAR
