BEGIN:VCALENDAR
VERSION:2.0
PRODID:-//https://www.faithvictoria.org.au///NONSGML kigkonsult.se iCalcreator 2.10.15//
METHOD:PUBLISH
BEGIN:VEVENT
UID:20260421T171211UTC-34232THbe9@https://www.faithvictoria.org.au/
DTSTAMP:20260421T171211Z
DESCRIPTION:ANTaR Victoria invites you to:\nTalking Treaty\nDate: Wednesday
  26 November 2025&nbsp\; &nbsp\; &nbsp\;Time:&nbsp\;5:30pm to 7pmLocation:
 &nbsp\;Collins St Baptist Church\, 174 Collins St\, Melbourne\nAustralia’s
  first Treaty between First Peoples in Victoria and the Victorian Governme
 nt is here. Learn about this historical journey to Truth and Treaty from a
 n elected Member of the First Peoples’ Assembly of Victoria.\nFollowed by 
 a Q&amp\;A\nTo register\, click here.&nbsp\; https://www.faithvictoria.org
 .au/upcoming-events/event/2435-talking-treaty-antar-victoria
DTSTART:20251126T173000Z
DTEND:20251126T190000Z
LOCATION:174 Collins Street\, Melbourne VIC (174 Collins St\, Melbourne VIC
  3000\, Australia)
SUMMARY:Talking Treaty: ANTaR Victoria
URL:https://www.faithvictoria.org.au/upcoming-events/event/2435-talking-tre
 aty-antar-victoria
END:VEVENT
END:VCALENDAR
