BEGIN:VCALENDAR
VERSION:2.0
PRODID:-//https://www.faithvictoria.org.au///NONSGML kigkonsult.se iCalcreator 2.10.15//
METHOD:PUBLISH
BEGIN:VEVENT
UID:20260421T171702UTC-2674NDVDfA@https://www.faithvictoria.org.au/
DTSTAMP:20260421T171702Z
DESCRIPTION:The Faith Communities Council of Victoria\, in partnership with
  City of Hume and Hume Interfaith Network\, would like to invite you to th
 e\n2025 Victorian Interfaith Festival \nDate: Sunday 16 November 2025&nbsp
 \; &nbsp\; &nbsp\;Time:12:00pm - 4:30pmLocation: Broadmeadows Town Hall\, 
 1079 Pascoe Vale Road\, Broadmeadows\nThe Victorian Interfaith Festival is
  a grass-roots community event which aims to bring together Victoria's div
 erse faith communities. Each year the event is held in a different Local G
 overnment Area (LGA) to showcase the various faith communities living in t
 hat region. The Festival focuses on various themes such as 'family violenc
 e'\, 'environment'\, 'anti-racism'\, 'child-safety'\, 'gambling-harm'\, an
 d brings people up-to-date with current multifaith/interfaith matters. The
  festival also recognises the wonderful work conducted by interfaith netwo
 rks across Victoria and provides networking opportunities.\nClick here for
  more information. https://www.faithvictoria.org.au/upcoming-events/event/
 2436-2025-victorian-interfaith-festival-faith-communities-council-of-victo
 ria
DTSTART:20251116T120000Z
DTEND:20251116T163000Z
LOCATION:Broadmeadows Town Hall\, 1079 Pascoe Vale Road\, Broadmeadows (107
 9 Pascoe Vale Rd\, Broadmeadows VIC 3047\, Australia)
SUMMARY:2025 Victorian Interfaith Festival: Faith Communities Council of Vi
 ctoria
URL:https://www.faithvictoria.org.au/upcoming-events/event/2436-2025-victor
 ian-interfaith-festival-faith-communities-council-of-victoria
END:VEVENT
END:VCALENDAR
