BEGIN:VCALENDAR
VERSION:2.0
PRODID:-//https://www.faithvictoria.org.au///NONSGML kigkonsult.se iCalcreator 2.10.15//
METHOD:PUBLISH
BEGIN:VEVENT
UID:20260420T145704UTC-3755FOmlmO@https://www.faithvictoria.org.au/
DTSTAMP:20260420T145704Z
DESCRIPTION: \nCLICK HERE TO VIEW MAY TOUR ITINERARY\nTours IncludeAn oppor
 tunity to visit the places of worship of the local faith communities\, inc
 luding: - A Hindu Temple- A Sikh Gurdwara- A Mosque - A Buddhist Temple - 
 A Christian Church - Indigenous sacred sites or - Spiritual traditions\nAn
  opportunity to see the diversity within our area\, focusing on the religi
 ous and spiritual dimension of multiculturalism.\nAn opportunity to be wel
 comed by a member/leader of each faith\, and learn from them something of 
 their belief\, practices and community here in Australia.\nThis service is
  coordinated by the members of the Interfaith Network and supported by the
  City of Greater Dandenong.\nTour CostA payment of $25 up front to secure 
 bookings for a tour. This payment covers:• Transportation• 'Many Faiths\, 
 One People' hardcopy booklet which explains each of the faiths\n \nFurther
  Information\nTimes: 8:45am – 2:30pm approx.\nCost: $25.00 payment up fron
 t required to secure booking\nBYO Lunch (most tours)\nAlso see website: ww
 w.interfaithnetwork.org.au https://www.faithvictoria.org.au/upcoming-event
 s/event/279-tour-to-places-of-worship
DTSTART:20110511T084500Z
DTEND:20110511T150000Z
LOCATION:JEvents ()
SUMMARY:Tour To Places of Worship
URL:https://www.faithvictoria.org.au/upcoming-events/event/279-tour-to-plac
 es-of-worship
END:VEVENT
END:VCALENDAR
