BEGIN:VCALENDAR
VERSION:2.0
PRODID:-//https://www.faithvictoria.org.au///NONSGML kigkonsult.se iCalcreator 2.10.15//
METHOD:PUBLISH
BEGIN:VEVENT
UID:20260423T222424UTC-1867kfsovp@https://www.faithvictoria.org.au/
DTSTAMP:20260423T222424Z
DESCRIPTION: \nCLICK HERE TO VIEW JUNE TOUR ITINERARY\nTours IncludeAn oppo
 rtunity to visit the places of worship of the local faith communities\, in
 cluding: - A Hindu Temple- A Sikh Gurdwara- A Mosque - A Buddhist Temple -
  A Christian Church - Indigenous sacred sites or - Spiritual traditions\nA
 n opportunity to see the diversity within our area\, focusing on the relig
 ious and spiritual dimension of multiculturalism.\nAn opportunity to be we
 lcomed by a member/leader of each faith\, and  learn from them something o
 f their belief\, practices and community here  in Australia.\nThis service
  is coordinated by the members of the Interfaith Network and supported by 
 the City of Greater Dandenong.\nTour CostA payment of $25 up front to secu
 re bookings for a tour. This payment covers:• Transportation• 'Many Faiths
 \, One People' hardcopy booklet which explains each of the faiths\n \nFurt
 her Information\nTimes: 8:45am – 2:30pm approx.\nCost: $25.00 payment up f
 ront required to secure booking\nBYO Lunch (most tours)\nAlso see website:
  www.interfaithnetwork.org.au https://www.faithvictoria.org.au/upcoming-ev
 ents/event/281-tour-to-places-of-worship
DTSTART:20110713T084500Z
DTEND:20110713T150000Z
LOCATION:JEvents ()
SUMMARY:Tour To Places of Worship
URL:https://www.faithvictoria.org.au/upcoming-events/event/281-tour-to-plac
 es-of-worship
END:VEVENT
END:VCALENDAR
