BEGIN:VCALENDAR
VERSION:2.0
PRODID:-//https://www.faithvictoria.org.au///NONSGML kigkonsult.se iCalcreator 2.10.15//
METHOD:PUBLISH
BEGIN:VEVENT
UID:20260422T165928UTC-1576jh9XAt@https://www.faithvictoria.org.au/
DTSTAMP:20260422T165928Z
DESCRIPTION: \nCLICK HERE TO VIEW SEPTEMBER ITINERARY\n \nTours IncludeAn o
 pportunity to visit the places of worship of the local faith communities\,
  including: - A Hindu Temple- A Sikh Gurdwara- A Mosque - A Buddhist Templ
 e - A Christian Church - Indigenous sacred sites or - Spiritual traditions
 \nAn opportunity to see the diversity within our area\, focusing on the re
 ligious and spiritual dimension of multiculturalism.\nAn opportunity to be
  welcomed by a member/leader of each faith\, and learn from them something
  of their belief\, practices and community here in Australia.\nThis servic
 e is coordinated by the members of the Interfaith Network and supported by
  the City of Greater Dandenong.\nTour CostA payment of $25 up front to sec
 ure bookings for a tour. This payment covers:• Transportation• 'Many Faith
 s\, One People' hardcopy booklet which explains each of the faiths\n \nFur
 ther Information\nTimes: 8:45am – 2:30pm approx.\nCost: $25.00 payment up 
 front required to secure booking\nBYO Lunch (most tours)\nAlso see website
 : www.interfaithnetwork.org.au\n  https://www.faithvictoria.org.au/upcomin
 g-events/event/283-tour-to-places-of-worship
DTSTART;VALUE=DATE:20110913
LOCATION:JEvents ()
SUMMARY:Tour to Places of Worship
URL:https://www.faithvictoria.org.au/upcoming-events/event/283-tour-to-plac
 es-of-worship
END:VEVENT
END:VCALENDAR
